BEGIN:VCALENDAR
VERSION:2.0
PRODID:-//wp-events-plugin.com//7.2.3.1//EN
TZID:Europe/Berlin
X-WR-TIMEZONE:Europe/Berlin
BEGIN:VEVENT
UID:34@dachauer-galerien-museen.de
DTSTART;TZID=Europe/Berlin:20250626T190000
DTEND;TZID=Europe/Berlin:20250626T203000
DTSTAMP:20250321T104701Z
URL:https://dachauer-galerien-museen.de/events/abendfuehrung-mit-kuratorin
 -blick-punkt-was-blicke-erzaehlen/
SUMMARY:Abendführung mit Kuratorin „BLICK.PUNKT. Was Blicke erzählen“
DESCRIPTION:Abendführung mit Kuratorin Dr. Laura Cohen durch die Ausstellu
 ng „BLICK.PUNKT. Was Blicke erzählen“.\n\n14.– Euro inkl. Eintritt\
 , Führung und Drink\n\nAnmeldung erforderlich\nTel. 08131 5675-13 oder\nv
 erwaltung@dachauer-galerien-museen.de
ATTACH;FMTTYPE=image/jpeg:https://dachauer-galerien-museen.de/wp-content/u
 ploads/2025/03/BLICK.PUNKT_.-Portale-e1751872713518.jpg
CATEGORIES:Abendführung
LOCATION:Gemäldegalerie\, Konrad-Adenauer-Str. 3\, Dachau\, Bayern\, 85221
  \, Deutschland
X-APPLE-STRUCTURED-LOCATION;VALUE=URI;X-ADDRESS=Konrad-Adenauer-Str. 3\, Da
 chau\, Bayern\, 85221 \, Deutschland;X-APPLE-RADIUS=100;X-TITLE=Gemäldega
 lerie:geo:0,0
END:VEVENT
BEGIN:VTIMEZONE
TZID:Europe/Berlin
X-LIC-LOCATION:Europe/Berlin
BEGIN:DAYLIGHT
DTSTART:20250330T030000
TZOFFSETFROM:+0100
TZOFFSETTO:+0200
TZNAME:CEST
END:DAYLIGHT
END:VTIMEZONE
END:VCALENDAR