BEGIN:VCALENDAR
VERSION:2.0
PRODID:-//wp-events-plugin.com//7.2.3.1//EN
TZID:Europe/Berlin
X-WR-TIMEZONE:Europe/Berlin
BEGIN:VEVENT
UID:18@dachauer-galerien-museen.de
DTSTART;TZID=Europe/Berlin:20250323T140000
DTEND;TZID=Europe/Berlin:20250323T150000
DTSTAMP:20241218T173428Z
URL:https://dachauer-galerien-museen.de/events/fuehrung-in-der-welt-unterw
 egs-die-kuenstlerkolonie-solingen/
SUMMARY:Führung »In der Welt unterwegs. Die Künstlerkolonie Solingen«
DESCRIPTION:4.– Euro zzgl. Eintritt\n\nAnmeldung erforderlich\nTel. 08131
  5675-13 oder\nverwaltung@dachauer-galerien-museen.de
ATTACH;FMTTYPE=image/jpeg:https://dachauer-galerien-museen.de/wp-content/u
 ploads/2024/07/Bowien_Im-Vaporetto-in-der-Lagune-von-Venedig-002.jpg
CATEGORIES:Führung
LOCATION:Gemäldegalerie\, Konrad-Adenauer-Str. 3\, Dachau\, Bayern\, 85221
  \, Deutschland
X-APPLE-STRUCTURED-LOCATION;VALUE=URI;X-ADDRESS=Konrad-Adenauer-Str. 3\, Da
 chau\, Bayern\, 85221 \, Deutschland;X-APPLE-RADIUS=100;X-TITLE=Gemäldega
 lerie:geo:0,0
END:VEVENT
BEGIN:VTIMEZONE
TZID:Europe/Berlin
X-LIC-LOCATION:Europe/Berlin
BEGIN:STANDARD
DTSTART:20241027T020000
TZOFFSETFROM:+0200
TZOFFSETTO:+0100
TZNAME:CET
END:STANDARD
END:VTIMEZONE
END:VCALENDAR