BEGIN:VCALENDAR
VERSION:2.0
PRODID:-//wp-events-plugin.com//7.2.3.1//EN
TZID:Europe/Berlin
X-WR-TIMEZONE:Europe/Berlin
BEGIN:VEVENT
UID:55@dachauer-galerien-museen.de
DTSTART;TZID=Europe/Berlin:20260611T160000
DTEND;TZID=Europe/Berlin:20260611T181500
DTSTAMP:20251021T060305Z
URL:https://dachauer-galerien-museen.de/events/mit-oma-und-opa-ins-museum-
 wie-kommt-die-butter-aufs-brot/
SUMMARY:Mit Oma und Opa ins Museum: Wie kommt die Butter aufs Brot?
DESCRIPTION:Heute reisen wir in die Vergangenheit und schauen\, wie man Vor
 räte gesammelt und dann am großen Ofen zubereitet hat\, als es noch kein
 e Supermärkte gab. In der Bauernstube erfahrt ihr mehr über das Zusammen
 leben und die Essgewohnheiten von früher. Dann stellen wir selbst Butter 
 her. Mit Schnittlauch und Radieschen wird eine leckere Brotzeit daraus.\n\
 n15.– Euro pro Erwachsener mit bis zu zwei Kindern\, jede weitere Person
  5.– Euro\n\nAnmeldung erforderlich\nTel. 08131 5675-13 oder verwaltung
 @dachauer-galerien-museen.de
ATTACH;FMTTYPE=image/jpeg:https://dachauer-galerien-museen.de/wp-content/u
 ploads/2025/07/Logo-Oma-und-Opa-25_26-e1752043777652.jpg
CATEGORIES:Kinder &amp; Familie
LOCATION:Bezirksmuseum\, Augsburger Str. 3\, Dachau\, Bayern\, 85221\, Deut
 schland
X-APPLE-STRUCTURED-LOCATION;VALUE=URI;X-ADDRESS=Augsburger Str. 3\, Dachau\
 , Bayern\, 85221\, Deutschland;X-APPLE-RADIUS=100;X-TITLE=Bezirksmuseum:ge
 o:0,0
END:VEVENT
BEGIN:VTIMEZONE
TZID:Europe/Berlin
X-LIC-LOCATION:Europe/Berlin
BEGIN:DAYLIGHT
DTSTART:20260329T030000
TZOFFSETFROM:+0100
TZOFFSETTO:+0200
TZNAME:CEST
END:DAYLIGHT
END:VTIMEZONE
END:VCALENDAR