BEGIN:VCALENDAR
VERSION:2.0
PRODID:-//wp-events-plugin.com//7.2.3.1//EN
TZID:Europe/Berlin
X-WR-TIMEZONE:Europe/Berlin
BEGIN:VEVENT
UID:17@dachauer-galerien-museen.de
DTSTART;TZID=Europe/Berlin:20250313T160000
DTEND;TZID=Europe/Berlin:20250313T181500
DTSTAMP:20250307T103031Z
URL:https://dachauer-galerien-museen.de/events/oma-und-opa-unterwegs-upcyc
 ling-mit-hundertwasser/
SUMMARY:+++ausgebucht! Nur Warteliste möglich+++Oma und Opa unterwegs – 
 Upcycling mit Hundertwasser
DESCRIPTION:(mit Ann-Jasmin Ullrich)\nHeute verlassen wir das Museum und sc
 hauen uns ein kunterbuntes Haus an\, das nach den Ideen des Künstlers Hun
 dertwasser gestaltet wurde. Ganz nach seinem Motto „aus alt mach neu“ 
 lassen auch wir nach unserem inspirierenden Spaziergang Altes ganz kunterb
 unt werden.\nTreffpunkt: Bezirksmuseum Dachau\n\n15.– Euro pro Erwachsen
 er mit bis zu zwei Kindern\, jede weitere Person 5.– Euro\n\nAnmeldung e
 rforderlich\nTel. 08131 5675-13 oder\nverwaltung@dachauer-galerien-museen.
 de
ATTACH;FMTTYPE=image/jpeg:https://dachauer-galerien-museen.de/wp-content/u
 ploads/2024/10/Logo-Oma-Opa-24_25-e1751436584156.jpg
CATEGORIES:Kinder &amp; Familie
LOCATION:Bezirksmuseum\, Augsburger Str. 3\, Dachau\, Bayern\, 85221\, Deut
 schland
X-APPLE-STRUCTURED-LOCATION;VALUE=URI;X-ADDRESS=Augsburger Str. 3\, Dachau\
 , Bayern\, 85221\, Deutschland;X-APPLE-RADIUS=100;X-TITLE=Bezirksmuseum:ge
 o:0,0
END:VEVENT
BEGIN:VTIMEZONE
TZID:Europe/Berlin
X-LIC-LOCATION:Europe/Berlin
BEGIN:STANDARD
DTSTART:20241027T020000
TZOFFSETFROM:+0200
TZOFFSETTO:+0100
TZNAME:CET
END:STANDARD
END:VTIMEZONE
END:VCALENDAR